BEGIN:VCALENDAR
VERSION:2.0
PRODID:-//Department Of Education//b81f395c-4cd8-4acf-97a1-2d826f08df88
BEGIN:VTIMEZONE
TZID:Australia/Sydney
TZURL:http://tzurl.org/zoneinfo-outlook/Australia/Sydney
X-LIC-LOCATION:Australia/Sydney
BEGIN:STANDARD
TZOFFSETFROM:+1100
TZOFFSETTO:+1000
TZNAME:AEST
DTSTART:19700405T030000
RRULE:FREQ=YEARLY;BYMONTH=4;BYDAY=1SU
END:STANDARD
BEGIN:DAYLIGHT
TZOFFSETFROM:+1000
TZOFFSETTO:+1100
TZNAME:AEDT
DTSTART:19701004T020000
RRULE:FREQ=YEARLY;BYMONTH=10;BYDAY=1SU
END:DAYLIGHT
END:VTIMEZONE
CALSCALE:GREGORIAN
X-WR-TIMEZONE:Australia/Sydney
BEGIN:VEVENT
DTSTART;VALUE=DATE:20200302
DTEND;VALUE=DATE:20200303
DTSTAMP:20200302T000000Z
UID:0b0b8292-0052-4793-95a9-cf77d3e8560a
LOCATION:Offsite location
SUMMARY;LANGUAGE=en-us:WGHS School Swimming Carnival
SEQUENCE:0
DESCRIPTION:All school swimming carnival.  Details to be sent home with students
END:VEVENT
TRANSP:TRANSPARENT
END:VCALENDAR
