BEGIN:VCALENDAR
VERSION:2.0
PRODID:-//Department Of Education//d59f9a51-d9db-417f-bbe9-5ab6e9ffff8e
BEGIN:VTIMEZONE
TZID:Australia/Sydney
TZURL:http://tzurl.org/zoneinfo-outlook/Australia/Sydney
X-LIC-LOCATION:Australia/Sydney
BEGIN:STANDARD
TZOFFSETFROM:+1100
TZOFFSETTO:+1000
TZNAME:AEST
DTSTART:19700405T030000
RRULE:FREQ=YEARLY;BYMONTH=4;BYDAY=1SU
END:STANDARD
BEGIN:DAYLIGHT
TZOFFSETFROM:+1000
TZOFFSETTO:+1100
TZNAME:AEDT
DTSTART:19701004T020000
RRULE:FREQ=YEARLY;BYMONTH=10;BYDAY=1SU
END:DAYLIGHT
END:VTIMEZONE
CALSCALE:GREGORIAN
X-WR-TIMEZONE:Australia/Sydney
BEGIN:VEVENT
DTSTART;TZID=Australia/Sydney:20200304T171531
DTEND;TZID=Australia/Sydney:20200304T200038
DTSTAMP:20200304T000000Z
UID:4c649346-4145-4e6c-a43d-daf4521b9fbe
LOCATION:TBC
SUMMARY;LANGUAGE=en-us:Open Night
SEQUENCE:0
DESCRIPTION:Open Night Flyer
END:VEVENT
TRANSP:TRANSPARENT
END:VCALENDAR
